BEGIN:VCALENDAR
VERSION:2.0
PRODID:-//Musica Da Camera - ECPv5.14.0.4//NONSGML v1.0//EN
CALSCALE:GREGORIAN
METHOD:PUBLISH
X-WR-CALNAME:Musica Da Camera
X-ORIGINAL-URL:https://www.musicadacamera.ch
X-WR-CALDESC:évènements pour Musica Da Camera
BEGIN:VTIMEZONE
TZID:Europe/Paris
BEGIN:DAYLIGHT
TZOFFSETFROM:+0100
TZOFFSETTO:+0200
TZNAME:CEST
DTSTART:20210328T010000
END:DAYLIGHT
BEGIN:STANDARD
TZOFFSETFROM:+0200
TZOFFSETTO:+0100
TZNAME:CET
DTSTART:20211031T010000
END:STANDARD
END:VTIMEZONE
BEGIN:VEVENT
DTSTART;TZID=Europe/Paris:20210508T133000
DTEND;TZID=Europe/Paris:20210509T180000
DTSTAMP:20260421T164520
CREATED:20201127T151538Z
LAST-MODIFIED:20211104T123725Z
UID:1456-1620480600-1620583200@www.musicadacamera.ch
SUMMARY:Blonay - Musique de chambre - 8 et 9 mai 2021
DESCRIPTION:Musique de chambre pour tous les âges \nDélai d’inscription : Annulé en raison des contraintes sanitaires \nOrganisateur musical : Jordan Gregoris \nHabitué des stages de Musica da Camera à Cratoule\, où j’ai enseigné sous la direction de Jan Dobrzelewski\, c’est avec grand plaisir que j’organiserai le week-end de musique de chambre à Blonay des 8 et 9 mai 2021 ! \nEn fonction du nombre des participants\, je m’entourerai de deux professeurs du Conservatoire Cantonal du Valais qui correspondent merveilleusement bien à l’esprit de Musica da Camera\, pour que les trois grandes familles d’instruments soient représentées: le piano\, les vents et les cordes frottées. En plus d’être de merveilleux musiciens\, ce sont de vrais pédagogues passionnés par ce métier si riche et exigeant. Grâce à leurs expériences\, ils sauront accompagner au mieux les stagiaires. \nAfin de développer le plaisir de jouer\, l’oreille et la créativité je proposerai\, en plus des 4 périodes de travail\, une soirée d’improvisation libre pour les personnes intéressées. \nJ’espère que cette présentation vous donnera l’envie de vous inscrire et de vivre avec nous notre passion pour la musique ! \nJordan Gregoris
URL:https://www.musicadacamera.ch/stage/blonay-musique-de-chambre-8-et-9-mai-2021/
LOCATION:Blonay\, Chemin du Lacuez 2 1807 Blonay\, Suisse
ORGANIZER;CN="Jordan%20Gregoris":MAILTO:jordan.gregoris@hotmail.fr
END:VEVENT
END:VCALENDAR