BEGIN:VCALENDAR
VERSION:2.0
PRODID:-//Musica Da Camera - ECPv5.14.0.4//NONSGML v1.0//EN
CALSCALE:GREGORIAN
METHOD:PUBLISH
X-WR-CALNAME:Musica Da Camera
X-ORIGINAL-URL:https://www.musicadacamera.ch
X-WR-CALDESC:évènements pour Musica Da Camera
BEGIN:VTIMEZONE
TZID:Europe/Paris
BEGIN:DAYLIGHT
TZOFFSETFROM:+0100
TZOFFSETTO:+0200
TZNAME:CEST
DTSTART:20210328T010000
END:DAYLIGHT
BEGIN:STANDARD
TZOFFSETFROM:+0200
TZOFFSETTO:+0100
TZNAME:CET
DTSTART:20211031T010000
END:STANDARD
END:VTIMEZONE
BEGIN:VEVENT
DTSTART;TZID=Europe/Paris:20210725T153000
DTEND;TZID=Europe/Paris:20210731T100000
DTSTAMP:20260421T170532
CREATED:20201127T151852Z
LAST-MODIFIED:20210531T102220Z
UID:1464-1627227000-1627725600@www.musicadacamera.ch
SUMMARY:Cratoule - Musique baroque - 25 au 31 juillet 2021
DESCRIPTION:Musique de chambre baroque dès 18 ans \nDélai d’inscription : Inscriptions closes \nOrganisatrice musicale : Sandra Latour \nVous souhaitez être immergé pendant une semaine dans le répertoire baroque et partager celui-ci avec des amis musiciens amateurs ou futurs professionnels\, ce stage est fait pour vous… \nL’équipe pédagogique est constituée d’artistes enseignants d’horizons divers partageant une approche commune de la musique ancienne. \nLa transmission\, le partage et la bonne humeur seront les maitres mots de cette semaine musicale. \nNous aborderons ensemble les clefs de l’ornementation et du phrasé propre à ce répertoire au service de la compréhension du discours musical et de l’émotion qui s’en dégagera. \nEnfin\, ensemble nous chercherons les solutions pour s’adapter et s’épanouir au mieux au sein d’un groupe en tant que chambriste.
URL:https://www.musicadacamera.ch/stage/cratoule-musique-baroque-25-au-31-juillet-2021/
LOCATION:Cratoule\, Cratoule 30760 Issirac\, France
ORGANIZER;CN="Sandra%20Latour":MAILTO:sandra.latour@gmail.com
END:VEVENT
END:VCALENDAR