BEGIN:VCALENDAR
VERSION:2.0
PRODID:-//Musica Da Camera - ECPv5.14.0.4//NONSGML v1.0//EN
CALSCALE:GREGORIAN
METHOD:PUBLISH
X-WR-CALNAME:Musica Da Camera
X-ORIGINAL-URL:https://www.musicadacamera.ch
X-WR-CALDESC:évènements pour Musica Da Camera
BEGIN:VTIMEZONE
TZID:Europe/Paris
BEGIN:DAYLIGHT
TZOFFSETFROM:+0100
TZOFFSETTO:+0200
TZNAME:CEST
DTSTART:20190331T010000
END:DAYLIGHT
BEGIN:STANDARD
TZOFFSETFROM:+0200
TZOFFSETTO:+0100
TZNAME:CET
DTSTART:20191027T010000
END:STANDARD
END:VTIMEZONE
BEGIN:VEVENT
DTSTART;VALUE=DATE:20190929
DTEND;VALUE=DATE:20191006
DTSTAMP:20260421T185900
CREATED:20190909T125701Z
LAST-MODIFIED:20191001T131825Z
UID:953-1569715200-1570319999@www.musicadacamera.ch
SUMMARY:Cratoule Musique de chambre – Sep / Oct 2019
DESCRIPTION:Musique de Chambre\, adultes dès 18 ans\nDélai d’inscription : 30.06.2019\nProfesseur(s) : Hans Egidi\n \nJe m’inscris à ce stage Fonctionnement des stages
URL:https://www.musicadacamera.ch/stage/cratoule-musique-de-chambre-sep-oct-2019/
LOCATION:Cratoule\, Cratoule 30760 Issirac\, France
CATEGORIES:Semaine
ORGANIZER;CN="Hans%20Egidi":MAILTO:hans.egidi@gmail.com
END:VEVENT
END:VCALENDAR