BEGIN:VCALENDAR
VERSION:2.0
PRODID:-//Musica Da Camera - ECPv5.14.0.4//NONSGML v1.0//EN
CALSCALE:GREGORIAN
METHOD:PUBLISH
X-WR-CALNAME:Musica Da Camera
X-ORIGINAL-URL:https://www.musicadacamera.ch
X-WR-CALDESC:évènements pour Musica Da Camera
BEGIN:VTIMEZONE
TZID:Europe/Paris
BEGIN:DAYLIGHT
TZOFFSETFROM:+0100
TZOFFSETTO:+0200
TZNAME:CEST
DTSTART:20210328T010000
END:DAYLIGHT
BEGIN:STANDARD
TZOFFSETFROM:+0200
TZOFFSETTO:+0100
TZNAME:CET
DTSTART:20211031T010000
END:STANDARD
END:VTIMEZONE
BEGIN:VEVENT
DTSTART;TZID=Europe/Paris:20210725T153000
DTEND;TZID=Europe/Paris:20210731T100000
DTSTAMP:20260421T163843
CREATED:20201128T095647Z
LAST-MODIFIED:20210508T160658Z
UID:1466-1627227000-1627725600@www.musicadacamera.ch
SUMMARY:Cratoule - Technique vocale et musique de chambre - 25 au 31 juillet 2021
DESCRIPTION:Technique vocale et musique de chambre avec piano\, jeunes et adultes \nDélai d’inscription : Annulé faute d’inscriptions \nOrganisateur musical : Benoît Capt\, avec la collaboration de Xavier Dami\, pianiste \nCe stage s’adresse à des chanteurs et à des pianistes désireux de se perfectionner et d’explorer le répertoire de la musique de chambre pour chant et piano. \n\nLe stage permet à chaque participant de travailler quotidiennement la technique vocale\, ainsi que des œuvres choisies du répertoire de musique de chambre adaptées au niveau de chacun.\nRépertoire au libre choix des participants.\nLa venue au stage en groupes déjà constitués est un avantage\, mais l’inscription comme chanteur ou pianiste seul est possible.\nLes formations avec des instrumentistes supplémentaires permettront d’aborder des œuvres spécifiques du répertoire\, comme des lieder et des mélodies avec un instrument obligé (Schubert\, Spohr\, Brahms) ou des pièces nécessitant un quatuor à cordes (Fauré\, Chausson\, Respighi\, Barber).\nConcert en fin de stage.\n\nTéléchargez le flyer du stage!
URL:https://www.musicadacamera.ch/stage/cratoule-technique-vocale-et-musique-de-chambre-25-au-31-juillet-2021/
LOCATION:Cratoule\, Cratoule 30760 Issirac\, France
ORGANIZER;CN="Beno%C3%AEt%20Capt":MAILTO:mail@benoitcapt.com
END:VEVENT
END:VCALENDAR